BEGIN:VCALENDAR
VERSION:2.0
PRODID:-//jEvents 2.0 for Joomla//EN
CALSCALE:GREGORIAN
METHOD:PUBLISH
BEGIN:VEVENT
UID:786bf69460a14826d8f330055db0fe80
CATEGORIES:Centrist Skills Workshop
SUMMARY:CSW 1 (Ireneo)
LOCATION:Ma Benita Beach Resort, Tabunan, Borbon
DESCRIPTION;ENCODING=QUOTED-PRINTABLE:
DTSTAMP:20260420T065218Z
DTSTART;VALUE=DATE:20160319
DTEND;VALUE=DATE:20160320
SEQUENCE:0
TRANSP:OPAQUE
END:VEVENT
END:VCALENDAR