BEGIN:VCALENDAR
VERSION:2.0
PRODID:-//jEvents 2.0 for Joomla//EN
CALSCALE:GREGORIAN
METHOD:PUBLISH
BEGIN:VEVENT
UID:f98cab561fc034ec4a9f698a3248b00a
CATEGORIES:Local Trainors Training Program
SUMMARY:LTTP 1 (Jun)
LOCATION:ComVal
DESCRIPTION;ENCODING=QUOTED-PRINTABLE:
DTSTAMP:20260420T065217Z
DTSTART;VALUE=DATE:20160319
DTEND;VALUE=DATE:20160321
SEQUENCE:0
TRANSP:OPAQUE
END:VEVENT
END:VCALENDAR