BEGIN:VCALENDAR
VERSION:2.0
PRODID:-//jEvents 2.0 for Joomla//EN
CALSCALE:GREGORIAN
METHOD:PUBLISH
BEGIN:VEVENT
UID:89bf1decb617bec30284e97c1d549464
CATEGORIES:Centrist Democracy Lecture Series
SUMMARY:CDLS 3 (Borbon)
LOCATION:Ma Benita Beach Resort, Tabunan, Borbon
DESCRIPTION;ENCODING=QUOTED-PRINTABLE:
DTSTAMP:20260420T063035Z
DTSTART;VALUE=DATE:20160327
DTEND;VALUE=DATE:20160328
SEQUENCE:0
TRANSP:OPAQUE
END:VEVENT
END:VCALENDAR