BEGIN:VCALENDAR
VERSION:2.0
PRODID:-//jEvents 2.0 for Joomla//EN
CALSCALE:GREGORIAN
METHOD:PUBLISH
BEGIN:VEVENT
UID:38b08230be58a16a47da3d23b2eac216
CATEGORIES:Local Trainors Training Program
SUMMARY:LTTP 1 (Rene) 
LOCATION:Organized Sectors, Cagayan de Oro City
DESCRIPTION;ENCODING=QUOTED-PRINTABLE:
DTSTAMP:20260420T065740Z
DTSTART;VALUE=DATE:20160329
DTEND;VALUE=DATE:20160330
SEQUENCE:0
TRANSP:OPAQUE
END:VEVENT
END:VCALENDAR