BEGIN:VCALENDAR
VERSION:2.0
PRODID:-//jEvents 2.0 for Joomla//EN
CALSCALE:GREGORIAN
METHOD:PUBLISH
BEGIN:VEVENT
UID:83afe6f96f240d06e3c5be32e7ed548b
CATEGORIES:Centrist Skills Workshop
SUMMARY:Centrist Skills Workshop 
DESCRIPTION;ENCODING=QUOTED-PRINTABLE:
DTSTAMP:20260420T054659Z
DTSTART:20160402T080000Z
SEQUENCE:0
TRANSP:OPAQUE
END:VEVENT
END:VCALENDAR