BEGIN:VCALENDAR
VERSION:2.0
PRODID:-//jEvents 2.0 for Joomla//EN
CALSCALE:GREGORIAN
METHOD:PUBLISH
BEGIN:VEVENT
UID:e683b6c4ab7993ec74d627277aa37ed9
CATEGORIES:Local Trainors Training Program
SUMMARY:Local Trainors Training Program
LOCATION:Botanical Garden Resort, Tabunan, Borbon
DESCRIPTION;ENCODING=QUOTED-PRINTABLE:
DTSTAMP:20260420T053918Z
DTSTART:20160403T080000Z
SEQUENCE:0
TRANSP:OPAQUE
END:VEVENT
END:VCALENDAR