BEGIN:VCALENDAR
VERSION:2.0
PRODID:-//jEvents 2.0 for Joomla//EN
CALSCALE:GREGORIAN
METHOD:PUBLISH
BEGIN:VEVENT
UID:88399a97bf52a96a466062c42804e66c
CATEGORIES:Centrist Democracy Lecture Series
SUMMARY:Centrist Democracy Lecture Series
LOCATION:FFF, Lapasan, Cagayn de Oro City
DESCRIPTION;ENCODING=QUOTED-PRINTABLE:
DTSTAMP:20260420T052250Z
DTSTART:20160406T080000Z
SEQUENCE:0
TRANSP:OPAQUE
END:VEVENT
END:VCALENDAR