BEGIN:VCALENDAR
VERSION:2.0
PRODID:-//jEvents 2.0 for Joomla//EN
CALSCALE:GREGORIAN
METHOD:PUBLISH
BEGIN:VEVENT
UID:2fa42c1e0ae70d343a6b49f37d24e0ca
CATEGORIES:Centrist Democracy Lecture Series
SUMMARY:Centrist Democracy Lecture Series
LOCATION:FMSG Bldg., Cubao, Quezon City
DESCRIPTION;ENCODING=QUOTED-PRINTABLE:
DTSTAMP:20260420T052928Z
DTSTART:20160406T090000Z
SEQUENCE:0
TRANSP:OPAQUE
END:VEVENT
END:VCALENDAR