BEGIN:VCALENDAR
VERSION:2.0
PRODID:-//jEvents 2.0 for Joomla//EN
CALSCALE:GREGORIAN
METHOD:PUBLISH
BEGIN:VEVENT
UID:1778aef3c98155a5592951c8012c39ad
CATEGORIES:Round Table Discussion
SUMMARY:Media on Federalism Round Table Discussion
LOCATION:Davao 
DESCRIPTION;ENCODING=QUOTED-PRINTABLE:
DTSTAMP:20260420T054758Z
DTSTART:20160407T090000Z
SEQUENCE:0
TRANSP:OPAQUE
END:VEVENT
END:VCALENDAR