BEGIN:VCALENDAR
VERSION:2.0
PRODID:-//jEvents 2.0 for Joomla//EN
CALSCALE:GREGORIAN
METHOD:PUBLISH
BEGIN:VEVENT
UID:8703bb76b0414f4bf97cb29790193ac5
CATEGORIES:Centrist Skills Workshop
SUMMARY:Centrist Skills Workshop 
LOCATION:Isulan
DESCRIPTION;ENCODING=QUOTED-PRINTABLE:
DTSTAMP:20260420T054756Z
DTSTART;VALUE=DATE:20160409
DTEND;VALUE=DATE:20160410
SEQUENCE:0
TRANSP:OPAQUE
END:VEVENT
END:VCALENDAR