BEGIN:VCALENDAR
VERSION:2.0
PRODID:-//jEvents 2.0 for Joomla//EN
CALSCALE:GREGORIAN
METHOD:PUBLISH
BEGIN:VEVENT
UID:428e726a21a49a01be5f25d292d4f92a
CATEGORIES:Round Table Discussion
SUMMARY:Round Table Discussion
LOCATION:One Casita Beach Resort, Tabunan, Borbon
DESCRIPTION;ENCODING=QUOTED-PRINTABLE:
CONTACT:Ireneo M. Noynay
DTSTAMP:20260420T054701Z
DTSTART:20160410T080000Z
SEQUENCE:0
TRANSP:OPAQUE
END:VEVENT
END:VCALENDAR