BEGIN:VCALENDAR
VERSION:2.0
PRODID:-//jEvents 2.0 for Joomla//EN
CALSCALE:GREGORIAN
METHOD:PUBLISH
BEGIN:VEVENT
UID:7bc797c235d37156cabdc36a1df215af
CATEGORIES:Centrist Democracy Lecture Series
SUMMARY:Centrist Democracy Lecture Series
LOCATION:Naga City
DESCRIPTION;ENCODING=QUOTED-PRINTABLE:
CONTACT:Patrick
DTSTAMP:20260420T052825Z
DTSTART:20160416T090000Z
SEQUENCE:0
TRANSP:OPAQUE
END:VEVENT
END:VCALENDAR