BEGIN:VCALENDAR
VERSION:2.0
PRODID:-//jEvents 2.0 for Joomla//EN
CALSCALE:GREGORIAN
METHOD:PUBLISH
BEGIN:VEVENT
UID:99a9fee5e6b7faed7c67575a59eddefb
CATEGORIES:Centrist Democracy Lecture Series
SUMMARY:Centrist Democracy Lecture Series
LOCATION:Tagum City
DESCRIPTION;ENCODING=QUOTED-PRINTABLE:
CONTACT:Jun
DTSTAMP:20260420T052732Z
DTSTART:20160417T080000Z
SEQUENCE:0
TRANSP:OPAQUE
END:VEVENT
END:VCALENDAR