BEGIN:VCALENDAR
VERSION:2.0
PRODID:-//jEvents 2.0 for Joomla//EN
CALSCALE:GREGORIAN
METHOD:PUBLISH
BEGIN:VEVENT
UID:3b8830610cae8f71a875a82596e7a55a
CATEGORIES:Round Table Discussion
SUMMARY:Round Table Discussion
LOCATION:One Casita Beach Resort, Tabunan, Borbon
DESCRIPTION;ENCODING=QUOTED-PRINTABLE:
CONTACT:Ireneo M. Noynay
DTSTAMP:20260420T054758Z
DTSTART:20160417T080000Z
SEQUENCE:0
TRANSP:OPAQUE
END:VEVENT
END:VCALENDAR