BEGIN:VCALENDAR
VERSION:2.0
PRODID:-//jEvents 2.0 for Joomla//EN
CALSCALE:GREGORIAN
METHOD:PUBLISH
BEGIN:VEVENT
UID:941112c18153424864226c974728a162
CATEGORIES:Centrist Democracy Lecture Series
SUMMARY:Centrist Democracy Lecture Series
LOCATION:SME, Cagayan de Oro City
DESCRIPTION;ENCODING=QUOTED-PRINTABLE:
CONTACT:Tibon
DTSTAMP:20260420T052102Z
DTSTART:20160421T080000Z
SEQUENCE:0
TRANSP:OPAQUE
END:VEVENT
END:VCALENDAR