BEGIN:VCALENDAR
VERSION:2.0
PRODID:-//jEvents 2.0 for Joomla//EN
CALSCALE:GREGORIAN
METHOD:PUBLISH
BEGIN:VEVENT
UID:672598ad2320c20f4e7052e9793d944d
CATEGORIES:Round Table Discussion
SUMMARY:Round Table Discussion
LOCATION:Davao City
DESCRIPTION;ENCODING=QUOTED-PRINTABLE:Political Science Professors
DTSTAMP:20260420T054700Z
DTSTART:20160423T080000Z
SEQUENCE:0
TRANSP:OPAQUE
END:VEVENT
END:VCALENDAR