BEGIN:VCALENDAR
VERSION:2.0
PRODID:-//jEvents 2.0 for Joomla//EN
CALSCALE:GREGORIAN
METHOD:PUBLISH
BEGIN:VEVENT
UID:02e1420d6879d25b118c3baf28a73433
CATEGORIES:Round Table Discussion
SUMMARY:Round Table Discussion
LOCATION:Cagayan de Oro City
DESCRIPTION;ENCODING=QUOTED-PRINTABLE:
CONTACT:Tibon
DTSTAMP:20260420T054700Z
DTSTART:20160426T080000Z
SEQUENCE:0
TRANSP:OPAQUE
END:VEVENT
END:VCALENDAR