BEGIN:VCALENDAR
VERSION:2.0
PRODID:-//jEvents 2.0 for Joomla//EN
CALSCALE:GREGORIAN
METHOD:PUBLISH
BEGIN:VEVENT
UID:71d09662c29c6ab70936ec651a122523
CATEGORIES:Round Table Discussion
SUMMARY:RTD 1 (Rene)
LOCATION:Senior Citizen, Cagayan de Oro City
DESCRIPTION;ENCODING=QUOTED-PRINTABLE:
DTSTAMP:20260420T080600Z
DTSTART;VALUE=DATE:20160305
DTEND;VALUE=DATE:20160306
SEQUENCE:0
TRANSP:OPAQUE
END:VEVENT
END:VCALENDAR