BEGIN:VCALENDAR
VERSION:2.0
PRODID:-//jEvents 2.0 for Joomla//EN
CALSCALE:GREGORIAN
METHOD:PUBLISH
BEGIN:VEVENT
UID:6601412ea69dcde3c56bc54f5e6a054a
CATEGORIES:Local Trainors Training Program
SUMMARY:Local Trainors' Training Program
LOCATION:Cagayan de Oro City
DESCRIPTION;ENCODING=QUOTED-PRINTABLE:Organized Sectors
CONTACT:Tibon
DTSTAMP:20260420T053853Z
DTSTART:20160429T080000Z
SEQUENCE:0
TRANSP:OPAQUE
END:VEVENT
END:VCALENDAR