BEGIN:VCALENDAR
VERSION:2.0
PRODID:-//jEvents 2.0 for Joomla//EN
CALSCALE:GREGORIAN
METHOD:PUBLISH
BEGIN:VEVENT
UID:edb1c186971b40482f8c98db595dae64
CATEGORIES:Round Table Discussion
SUMMARY:Round Table Discussion
LOCATION:One Casita Beach Resort, Tabunan, Borbon
DESCRIPTION;ENCODING=QUOTED-PRINTABLE:
CONTACT:Ireneo M. Noynay
DTSTAMP:20260420T054356Z
DTSTART:20160430T080000Z
DTEND:20160430T170000Z
SEQUENCE:0
TRANSP:OPAQUE
END:VEVENT
END:VCALENDAR