BEGIN:VCALENDAR
VERSION:2.0
PRODID:-//jEvents 2.0 for Joomla//EN
CALSCALE:GREGORIAN
METHOD:PUBLISH
BEGIN:VEVENT
UID:bab1b84f7f5a91c91aa774f07e677a02
CATEGORIES:Centrist Democracy Lecture Series
SUMMARY:Centrist Democracy Lecture Series
LOCATION:FFF, Bugo, Cagayan de Oro City
DESCRIPTION;ENCODING=QUOTED-PRINTABLE:
CONTACT:Tibon
DTSTAMP:20260420T035930Z
DTSTART:20160504T080000Z
SEQUENCE:0
TRANSP:OPAQUE
END:VEVENT
END:VCALENDAR