BEGIN:VCALENDAR
VERSION:2.0
PRODID:-//jEvents 2.0 for Joomla//EN
CALSCALE:GREGORIAN
METHOD:PUBLISH
BEGIN:VEVENT
UID:b38211a5014b8a0cf5257cb21ec1e898
CATEGORIES:Round Table Discussion
SUMMARY:Round Table Discussion
LOCATION:Cagayan de Oro City
DESCRIPTION;ENCODING=QUOTED-PRINTABLE:
CONTACT:Tibon
DTSTAMP:20260420T043543Z
DTSTART:20160514T080000Z
SEQUENCE:0
TRANSP:OPAQUE
END:VEVENT
END:VCALENDAR