BEGIN:VCALENDAR
VERSION:2.0
PRODID:-//jEvents 2.0 for Joomla//EN
CALSCALE:GREGORIAN
METHOD:PUBLISH
BEGIN:VEVENT
UID:cc54a3842a3d6fdc83e7c21fd0eee27e
CATEGORIES:Centrist Democracy Lecture Series
SUMMARY:Centrist Democracy Lecture Series
LOCATION:Digos City
DESCRIPTION;ENCODING=QUOTED-PRINTABLE:
CONTACT:Jun
DTSTAMP:20260420T040044Z
DTSTART:20160515T080000Z
SEQUENCE:0
TRANSP:OPAQUE
END:VEVENT
END:VCALENDAR