BEGIN:VCALENDAR
VERSION:2.0
PRODID:-//jEvents 2.0 for Joomla//EN
CALSCALE:GREGORIAN
METHOD:PUBLISH
BEGIN:VEVENT
UID:7fac323648239e1281633b4bbfb76076
CATEGORIES:Centrist Democracy Lecture Series
SUMMARY:Centrist Democracy Lecture Series
LOCATION:Daan Bantayan, Cebu
DESCRIPTION;ENCODING=QUOTED-PRINTABLE:
CONTACT:Ireneo M. Noynay
DTSTAMP:20260420T040044Z
DTSTART:20160521T080000Z
SEQUENCE:0
TRANSP:OPAQUE
END:VEVENT
END:VCALENDAR