BEGIN:VCALENDAR
VERSION:2.0
PRODID:-//jEvents 2.0 for Joomla//EN
CALSCALE:GREGORIAN
METHOD:PUBLISH
BEGIN:VEVENT
UID:fe09cee29a9b3f10d714e7d65faf9c75
CATEGORIES:Centrist Skills Workshop
SUMMARY:Centrist Skills Workshop in Quezon City
LOCATION:Rm 204 FMSG Bldg., E. Rodriguez cor.  New York St., Cubao Quezon City
DESCRIPTION;ENCODING=QUOTED-PRINTABLE:
DTSTAMP:20260420T065213Z
DTSTART:20160304T080000Z
DTEND:20160305T170000Z
SEQUENCE:0
TRANSP:OPAQUE
END:VEVENT
END:VCALENDAR