BEGIN:VCALENDAR
VERSION:2.0
PRODID:-//jEvents 2.0 for Joomla//EN
CALSCALE:GREGORIAN
METHOD:PUBLISH
BEGIN:VEVENT
UID:e9197d9aa8a50a856b39d8e10f8b164a
CATEGORIES:Centrist Democracy Lecture Series
SUMMARY:Centrist Democracy Lecture Series
LOCATION:Ambakan Blue Lagoon, Tabunok, Sogod
DESCRIPTION;ENCODING=QUOTED-PRINTABLE:
CONTACT:Ireneo M. Noynay
DTSTAMP:20260420T040043Z
DTSTART:20160522T080000Z
SEQUENCE:0
TRANSP:OPAQUE
END:VEVENT
END:VCALENDAR