BEGIN:VCALENDAR
VERSION:2.0
PRODID:-//jEvents 2.0 for Joomla//EN
CALSCALE:GREGORIAN
METHOD:PUBLISH
BEGIN:VEVENT
UID:f674b5e1d9b3278351c1d3ef8526c974
CATEGORIES:Centrist Democracy Lecture Series
SUMMARY:Centrist Democracy Lecture Series
LOCATION:Urdaneta City, Pangasinan
DESCRIPTION;ENCODING=QUOTED-PRINTABLE:
CONTACT:Patrick
DTSTAMP:20260420T040045Z
DTSTART:20160528T080000Z
SEQUENCE:0
TRANSP:OPAQUE
END:VEVENT
END:VCALENDAR