BEGIN:VCALENDAR
VERSION:2.0
PRODID:-//jEvents 2.0 for Joomla//EN
CALSCALE:GREGORIAN
METHOD:PUBLISH
BEGIN:VEVENT
UID:614ac00930f65a999079ae4231dde122
CATEGORIES:Centrist Skills Workshop
SUMMARY:Centrist Skills Workshop
LOCATION:Davao City, Fisherfolks
DESCRIPTION;ENCODING=QUOTED-PRINTABLE:
CONTACT:Jun
DTSTAMP:20260420T043722Z
DTSTART:20160529T080000Z
SEQUENCE:0
TRANSP:OPAQUE
END:VEVENT
END:VCALENDAR