BEGIN:VCALENDAR
VERSION:2.0
PRODID:-//jEvents 2.0 for Joomla//EN
CALSCALE:GREGORIAN
METHOD:PUBLISH
BEGIN:VEVENT
UID:a8140031bf4ddea3f99f86cf5f867a91
CATEGORIES:Centrist Democracy Lecture Series
SUMMARY:Centrist Democracy Lecture Series
LOCATION:Vigan, Ilocos Sur
DESCRIPTION;ENCODING=QUOTED-PRINTABLE:
CONTACT:Patrick
DTSTAMP:20260420T052057Z
DTSTART:20160429T080000Z
SEQUENCE:0
TRANSP:OPAQUE
END:VEVENT
END:VCALENDAR