BEGIN:VCALENDAR
VERSION:2.0
PRODID:-//jEvents 2.0 for Joomla//EN
CALSCALE:GREGORIAN
METHOD:PUBLISH
BEGIN:VEVENT
UID:8e0a29d4be0e71c389e90d4c3960aabd
CATEGORIES:Centrist Democracy Lecture Series
SUMMARY:Centrist Democracy Lecture Series
DESCRIPTION;ENCODING=QUOTED-PRINTABLE:
CONTACT:Tibon
DTSTAMP:20260420T025336Z
DTSTART:20160604T080000Z
SEQUENCE:0
TRANSP:OPAQUE
END:VEVENT
END:VCALENDAR