BEGIN:VCALENDAR
VERSION:2.0
PRODID:-//jEvents 2.0 for Joomla//EN
CALSCALE:GREGORIAN
METHOD:PUBLISH
BEGIN:VEVENT
UID:efb47aef0be3965bd9ab1fc7117b47b3
CATEGORIES:Centrist Democracy Lecture Series
SUMMARY:CDLS 1 (Jun)
LOCATION:Davao City
DESCRIPTION;ENCODING=QUOTED-PRINTABLE:
DTSTAMP:20260420T062135Z
DTSTART;VALUE=DATE:20160306
DTEND;VALUE=DATE:20160307
SEQUENCE:0
TRANSP:OPAQUE
END:VEVENT
END:VCALENDAR