BEGIN:VCALENDAR
VERSION:2.0
PRODID:-//jEvents 2.0 for Joomla//EN
CALSCALE:GREGORIAN
METHOD:PUBLISH
BEGIN:VEVENT
UID:fc358a8d407d5f6dad532996a815ab5e
CATEGORIES:Memo
SUMMARY:PURSUING FEDERALISM: A Shift from Unitary-Presidential to  Federal-Parliamentary Government
LOCATION:BA Securities Hall, 3 rd Floor, PCCI Commerce & Industry Plaza  1030 Campus
  Ave. Mckinley Town Center, Fort Bonifaci
DESCRIPTION;ENCODING=QUOTED-PRINTABLE: 
CONTACT:April De la Cruz 
DTSTAMP:20260420T032610Z
DTSTART:20160610T090000Z
DTEND:20160610T160000Z
SEQUENCE:0
TRANSP:OPAQUE
END:VEVENT
END:VCALENDAR