BEGIN:VCALENDAR
VERSION:2.0
PRODID:-//jEvents 2.0 for Joomla//EN
CALSCALE:GREGORIAN
METHOD:PUBLISH
BEGIN:VEVENT
UID:3f1d9a1a4b016e9f6e95a524eda02723
CATEGORIES:DEFAULT
SUMMARY:Federalism Conference
LOCATION:4F Sarangani Room  The Marco Polo Hotel, Davao City  25 June 2016
DESCRIPTION;ENCODING=QUOTED-PRINTABLE:
CONTACT:April De la Cruz
DTSTAMP:20260420T015104Z
DTSTART:20160625T090000Z
DTEND:20160625T160000Z
SEQUENCE:0
TRANSP:OPAQUE
END:VEVENT
END:VCALENDAR