BEGIN:VCALENDAR
VERSION:2.0
PRODID:-//jEvents 2.0 for Joomla//EN
CALSCALE:GREGORIAN
METHOD:PUBLISH
BEGIN:VEVENT
UID:64efaccbc6d44b3ea63f7bb3af179eb4
CATEGORIES:DEFAULT
SUMMARY:Federalism Conference in Metro Manila
LOCATION:Metro Manila
DESCRIPTION;ENCODING=QUOTED-PRINTABLE:
CONTACT:April De la Cruz
DTSTAMP:20260420T004118Z
DTSTART:20160730T080000Z
SEQUENCE:0
TRANSP:OPAQUE
END:VEVENT
END:VCALENDAR