BEGIN:VCALENDAR
VERSION:2.0
PRODID:-//jEvents 2.0 for Joomla//EN
CALSCALE:GREGORIAN
METHOD:PUBLISH
BEGIN:VEVENT
UID:95f6049eb1c66b2a588df4ee3c54f94f
CATEGORIES:DEFAULT
SUMMARY:Federalism Conference in San Fernando, Pampanga
LOCATION:San Fernando Pampanga
DESCRIPTION;ENCODING=QUOTED-PRINTABLE:
CONTACT:April De la Cruz
DTSTAMP:20260420T015157Z
DTSTART:20160728T090000Z
DTEND:20160728T170000Z
SEQUENCE:0
TRANSP:OPAQUE
END:VEVENT
END:VCALENDAR