BEGIN:VCALENDAR
VERSION:2.0
PRODID:-//jEvents 2.0 for Joomla//EN
CALSCALE:GREGORIAN
METHOD:PUBLISH
BEGIN:VEVENT
UID:ed656aed8eaa19aa3901d1ed9d5ff273
CATEGORIES:DEFAULT
SUMMARY:Federalism Conference in Puerto Princesa
LOCATION:Puerto Princesa, Palawan
DESCRIPTION;ENCODING=QUOTED-PRINTABLE:
CONTACT:April De la Cruz
DTSTAMP:20260419T230916Z
DTSTART:20160818T080000Z
SEQUENCE:0
TRANSP:OPAQUE
END:VEVENT
END:VCALENDAR