BEGIN:VCALENDAR
VERSION:2.0
PRODID:-//jEvents 2.0 for Joomla//EN
CALSCALE:GREGORIAN
METHOD:PUBLISH
BEGIN:VEVENT
UID:b661a6a13c93e215898ed0fb23c07c71
CATEGORIES:Local Trainors Training Program
SUMMARY:Local Trainors' Training Program & Speakers Training for Federalism
LOCATION:Cagayan de Oro City
DESCRIPTION;ENCODING=QUOTED-PRINTABLE:
CONTACT:April De la Cruz
X-EXTRAINFO:Rene Tibon & Jordan
DTSTAMP:20260420T013340Z
DTSTART:20160806T080000Z
SEQUENCE:0
TRANSP:OPAQUE
END:VEVENT
END:VCALENDAR