BEGIN:VCALENDAR
VERSION:2.0
PRODID:-//jEvents 2.0 for Joomla//EN
CALSCALE:GREGORIAN
METHOD:PUBLISH
BEGIN:VEVENT
UID:dcbfd5eeca5838d4545a04336387d4ba
CATEGORIES:DEFAULT
SUMMARY:CDP Brainstorming
LOCATION:Cagayan de Oro City
DESCRIPTION;ENCODING=QUOTED-PRINTABLE:
CONTACT:April De la Cruz
DTSTAMP:20260419T230909Z
DTSTART:20160809T080000Z
SEQUENCE:0
TRANSP:OPAQUE
END:VEVENT
END:VCALENDAR