BEGIN:VCALENDAR
VERSION:2.0
PRODID:-//jEvents 2.0 for Joomla//EN
CALSCALE:GREGORIAN
METHOD:PUBLISH
BEGIN:VEVENT
UID:641fcf71bc17a799ed154123d9f0bb68
CATEGORIES:DEFAULT
SUMMARY:Federalism Conference in Ozamiz City
LOCATION:Ozamiz City
DESCRIPTION;ENCODING=QUOTED-PRINTABLE:
CONTACT:April De la Cruz
DTSTAMP:20260419T230917Z
DTSTART:20160801T080000Z
DTEND:20160801T170000Z
SEQUENCE:0
TRANSP:OPAQUE
END:VEVENT
END:VCALENDAR