BEGIN:VCALENDAR
VERSION:2.0
PRODID:-//jEvents 2.0 for Joomla//EN
CALSCALE:GREGORIAN
METHOD:PUBLISH
BEGIN:VEVENT
UID:1ba471cb8089fc85c0ad622a4087043c
CATEGORIES:DEFAULT
SUMMARY:GLOBAL AUTONOMY AND GOVERNANCE FORUM 2016
LOCATION:Dusit Thani Hotel, Makati City, Philippines
DESCRIPTION;ENCODING=QUOTED-PRINTABLE:The inaugural Global Autonomy and Governance Forum (GAGF) 2016 is the Regio
 n’s authoritative, multi-sectoral and the most comprehensive strategic conf
 erence on autonomy, federalism and governance as a conflict resolution devi
 se to resolve violent conflicts. The Global Forum will bring together exper
 ts and officials from government, non-state stakeholders, business, academe
 , research, NGOs, POs, media, religious, diplomatic and donor communities t
 o network and reflect on trends, innovations, prospects and models of auton
 omy and governance towards peace, security and development.
CONTACT:http://www.gagf2016.iag.org.ph/
DTSTAMP:20260419T203736Z
DTSTART:20161019T080000Z
DTEND:20161020T170000Z
SEQUENCE:0
TRANSP:OPAQUE
END:VEVENT
END:VCALENDAR