BEGIN:VCALENDAR
VERSION:2.0
PRODID:-//jEvents 2.0 for Joomla//EN
CALSCALE:GREGORIAN
METHOD:PUBLISH
BEGIN:VEVENT
UID:c77cbc076a10e8d91eed04310289f158
CATEGORIES:DEFAULT
SUMMARY:Pursuing Federalism: A Shift from Unitary-Presidential to Federal-Parliamentary Government - Ozamiz City
LOCATION:MU Manor, Circumferential Road, Ozamiz City
DESCRIPTION;ENCODING=QUOTED-PRINTABLE:
CONTACT:April De la Cruz
DTSTAMP:20260419T214736Z
DTSTART:20160903T080000Z
DTEND:20160903T150000Z
SEQUENCE:0
TRANSP:OPAQUE
END:VEVENT
END:VCALENDAR