BEGIN:VCALENDAR
VERSION:2.0
PRODID:-//jEvents 2.0 for Joomla//EN
CALSCALE:GREGORIAN
METHOD:PUBLISH
BEGIN:VEVENT
UID:208f845ed9c7fcf520c6528c2a448150
CATEGORIES:DEFAULT
SUMMARY:CDPI/KAS/DILG/PDP-LABAN Conference and Dialogue on the Initiatives of Federalist Groups towards the Roadmap to Federalism
LOCATION:St. Giles Hotel, Makati or City Garden Hotel, Makati
DESCRIPTION;ENCODING=QUOTED-PRINTABLE:
CONTACT:April 
DTSTAMP:20260419T190246Z
DTSTART:20161125T080000Z
DTEND:20161125T120000Z
SEQUENCE:0
TRANSP:OPAQUE
END:VEVENT
END:VCALENDAR