BEGIN:VCALENDAR
VERSION:2.0
PRODID:-//jEvents 2.0 for Joomla//EN
CALSCALE:GREGORIAN
METHOD:PUBLISH
BEGIN:VEVENT
UID:839ae97d1a59d85c8d34cf8667cce137
CATEGORIES:Memo
SUMMARY:Creating Synergies toward the Formulation of Federalism Roadmap
LOCATION:Hotel de Susana and Restaurant, Sayre Highway, Valencia City, Bukidnon
DESCRIPTION;ENCODING=QUOTED-PRINTABLE:
CONTACT:April De La Cruz
DTSTAMP:20260419T161131Z
DTSTART:20170207T080000Z
SEQUENCE:0
TRANSP:OPAQUE
END:VEVENT
END:VCALENDAR