BEGIN:VCALENDAR
VERSION:2.0
PRODID:-//jEvents 2.0 for Joomla//EN
CALSCALE:GREGORIAN
METHOD:PUBLISH
BEGIN:VEVENT
UID:3f4f7c8dff32040c6c6af793ab353038
CATEGORIES:Centrist Democracy Lecture Series
SUMMARY:CDLS 2 (Rene)
DESCRIPTION;ENCODING=QUOTED-PRINTABLE:
DTSTAMP:20260420T063526Z
DTSTART;VALUE=DATE:20160311
DTEND;VALUE=DATE:20160312
SEQUENCE:0
TRANSP:OPAQUE
END:VEVENT
END:VCALENDAR