BEGIN:VCALENDAR
VERSION:2.0
PRODID:-//jEvents 2.0 for Joomla//EN
CALSCALE:GREGORIAN
METHOD:PUBLISH
BEGIN:VEVENT
UID:037a4a86b5e1625fb825654b26949db8
CATEGORIES:Centrist Democracy Lecture Series
SUMMARY:CDLS 1  (Patrick)
LOCATION:San Fernando, Pampanga
DESCRIPTION;ENCODING=QUOTED-PRINTABLE:
DTSTAMP:20260420T062017Z
DTSTART;VALUE=DATE:20160312
DTEND;VALUE=DATE:20160313
SEQUENCE:0
TRANSP:OPAQUE
END:VEVENT
END:VCALENDAR