BEGIN:VCALENDAR
VERSION:2.0
PRODID:-//jEvents 2.0 for Joomla//EN
CALSCALE:GREGORIAN
METHOD:PUBLISH
BEGIN:VEVENT
UID:a92afd20245a99fd6cd1f6eb8887866d
CATEGORIES:Centrist Democracy Lecture Series
SUMMARY:CDLS 3 (Rene)
LOCATION:Labor Sector, Cagayan de Oro City
DESCRIPTION;ENCODING=QUOTED-PRINTABLE:
DTSTAMP:20260420T062929Z
DTSTART;VALUE=DATE:20160318
DTEND;VALUE=DATE:20160319
SEQUENCE:0
TRANSP:OPAQUE
END:VEVENT
END:VCALENDAR